BEGIN:VCALENDAR
VERSION:2.0
PRODID:-//Mois Multi - ECPv6.15.14//NONSGML v1.0//EN
CALSCALE:GREGORIAN
METHOD:PUBLISH
X-WR-CALNAME:Mois Multi
X-ORIGINAL-URL:https://moismulti.org
X-WR-CALDESC:Évènements pour Mois Multi
REFRESH-INTERVAL;VALUE=DURATION:PT1H
X-Robots-Tag:noindex
X-PUBLISHED-TTL:PT1H
BEGIN:VTIMEZONE
TZID:America/Montreal
BEGIN:DAYLIGHT
TZOFFSETFROM:-0500
TZOFFSETTO:-0400
TZNAME:EDT
DTSTART:20230312T070000
END:DAYLIGHT
BEGIN:STANDARD
TZOFFSETFROM:-0400
TZOFFSETTO:-0500
TZNAME:EST
DTSTART:20231105T060000
END:STANDARD
BEGIN:DAYLIGHT
TZOFFSETFROM:-0500
TZOFFSETTO:-0400
TZNAME:EDT
DTSTART:20240310T070000
END:DAYLIGHT
BEGIN:STANDARD
TZOFFSETFROM:-0400
TZOFFSETTO:-0500
TZNAME:EST
DTSTART:20241103T060000
END:STANDARD
BEGIN:DAYLIGHT
TZOFFSETFROM:-0500
TZOFFSETTO:-0400
TZNAME:EDT
DTSTART:20250309T070000
END:DAYLIGHT
BEGIN:STANDARD
TZOFFSETFROM:-0400
TZOFFSETTO:-0500
TZNAME:EST
DTSTART:20251102T060000
END:STANDARD
END:VTIMEZONE
BEGIN:VEVENT
DTSTART;VALUE=DATE:20240201
DTEND;VALUE=DATE:20240226
DTSTAMP:20260421T042852
CREATED:20231106T170757Z
LAST-MODIFIED:20240122T215413Z
UID:1099-1706745600-1708905599@moismulti.org
SUMMARY:Surfaces fuyantes
DESCRIPTION:
URL:https://moismulti.org/calendrier/surfaces-fuyantes/
LOCATION:Musée de la civilisation\, 85 Rue Dalhousie\, Québec\, QC\, G1K 8R2\, Canada
CATEGORIES:Expositions
ATTACH;FMTTYPE=image/jpeg:https://moismulti.org/wp-content/uploads/2023/11/VIGNETTESurfaces-fuyantes-_-Francois-Quevillon-1-scaled.jpg
END:VEVENT
BEGIN:VEVENT
DTSTART;VALUE=DATE:20240201
DTEND;VALUE=DATE:20240226
DTSTAMP:20260421T042852
CREATED:20231222T211851Z
LAST-MODIFIED:20240122T220414Z
UID:1427-1706745600-1708905599@moismulti.org
SUMMARY:L'Espace suspendu
DESCRIPTION:
URL:https://moismulti.org/calendrier/lespace-suspendu/
LOCATION:QC
CATEGORIES:Expositions
ATTACH;FMTTYPE=image/png:https://moismulti.org/wp-content/uploads/2022/12/ES_SiteWeb_1920x1080_v2_x2.png
END:VEVENT
BEGIN:VEVENT
DTSTART;VALUE=DATE:20240201
DTEND;VALUE=DATE:20240226
DTSTAMP:20260421T042852
CREATED:20240106T013046Z
LAST-MODIFIED:20240107T180104Z
UID:1514-1706745600-1708905599@moismulti.org
SUMMARY:Nos territoires\, paysages sonores
DESCRIPTION:
URL:https://moismulti.org/calendrier/nos-territoires-paysages-sonores/
LOCATION:QC
CATEGORIES:Lancements et 5 à tard
ATTACH;FMTTYPE=image/jpeg:https://moismulti.org/wp-content/uploads/2024/01/Nos-territoires-paysages-sonores-Les-Incompletes1-scaled.jpg
END:VEVENT
BEGIN:VEVENT
DTSTART;VALUE=DATE:20240214
DTEND;VALUE=DATE:20240226
DTSTAMP:20260421T042852
CREATED:20231222T212415Z
LAST-MODIFIED:20240125T214001Z
UID:1429-1707868800-1708905599@moismulti.org
SUMMARY:Les Délices
DESCRIPTION:
URL:https://moismulti.org/calendrier/les-delices/
LOCATION:La Charpente des fauves\, 206 Rue Christophe Colomb E\, Québec\, QC\, G1K 3S7\, Canada
CATEGORIES:Expositions
ATTACH;FMTTYPE=image/jpeg:https://moismulti.org/wp-content/uploads/2023/12/VIGNETTELes-Delices-_-Catherine-Belanger-_-Capture-decran-1.jpg
END:VEVENT
END:VCALENDAR